BEGIN:VCALENDAR
VERSION:2.0
PRODID:-//Rutgers Climate and Energy Institute (RCEI) - ECPv6.15.18//NONSGML v1.0//EN
CALSCALE:GREGORIAN
METHOD:PUBLISH
X-ORIGINAL-URL:https://rcei.rutgers.edu
X-WR-CALDESC:Events for Rutgers Climate and Energy Institute (RCEI)
REFRESH-INTERVAL;VALUE=DURATION:PT1H
X-Robots-Tag:noindex
X-PUBLISHED-TTL:PT1H
BEGIN:VTIMEZONE
TZID:America/New_York
BEGIN:DAYLIGHT
TZOFFSETFROM:-0500
TZOFFSETTO:-0400
TZNAME:EDT
DTSTART:20220313T070000
END:DAYLIGHT
BEGIN:STANDARD
TZOFFSETFROM:-0400
TZOFFSETTO:-0500
TZNAME:EST
DTSTART:20221106T060000
END:STANDARD
BEGIN:DAYLIGHT
TZOFFSETFROM:-0500
TZOFFSETTO:-0400
TZNAME:EDT
DTSTART:20230312T070000
END:DAYLIGHT
BEGIN:STANDARD
TZOFFSETFROM:-0400
TZOFFSETTO:-0500
TZNAME:EST
DTSTART:20231105T060000
END:STANDARD
BEGIN:DAYLIGHT
TZOFFSETFROM:-0500
TZOFFSETTO:-0400
TZNAME:EDT
DTSTART:20240310T070000
END:DAYLIGHT
BEGIN:STANDARD
TZOFFSETFROM:-0400
TZOFFSETTO:-0500
TZNAME:EST
DTSTART:20241103T060000
END:STANDARD
END:VTIMEZONE
BEGIN:VEVENT
DTSTART;TZID=America/New_York:20231025T120000
DTEND;TZID=America/New_York:20231025T130000
DTSTAMP:20260421T093240
CREATED:20231018T212914Z
LAST-MODIFIED:20231018T212914Z
UID:930-1698235200-1698238800@rcei.rutgers.edu
SUMMARY:Rutgers Green Labs Webinar
DESCRIPTION:Event Type: Online only \nReducing energy and plastic use in research labs will make a huge impact on our emissions. Learn how you can make a difference in your lab and connect with the Rutgers Green Labs Initiative during this interactive webinar. \nPresenter: Marcela Rodriguez\, Associate Professor of Medicine\, Robert Wood Johnson Medical School; Member\, Rutgers Health Climate Action Group; Lead\, Rutgers Green Labs Initiative \nRegister here.
URL:https://rcei.rutgers.edu/event/rutgers-green-labs-webinar/
END:VEVENT
BEGIN:VEVENT
DTSTART;TZID=America/New_York:20231025T123000
DTEND;TZID=America/New_York:20231025T133000
DTSTAMP:20260421T093240
CREATED:20231019T185109Z
LAST-MODIFIED:20231019T185732Z
UID:940-1698237000-1698240600@rcei.rutgers.edu
SUMMARY:Reforesting the Earth through Societal Corporatism: A Natural Climate Solution
DESCRIPTION:Speaker: Tom Rudel\, Prof Emeritus\, Rutgers University \nAbstract:  \nThe contours of the collective action necessary to limit climate change remain difficult to discern. In this context\, corporatist political processes\, fueled by crisis narratives\, have shown some promise as political devices for facilitating natural climate solutions. Corporatist processes have\, historically\, brought together political competitors like employers and labor unions within an economic sector to negotiate compacts that have advanced a collective good during times of crisis. In response to the climate crisis\, affluent donor groups\, indigenous peoples\, and state officials have assembled corporatist-like coalitions to pursue natural climate solutions in the form of forest conservation and restoration. Three case studies illustrate this political dynamic\, its shortcomings\, and its accomplishments. \n \n 
URL:https://rcei.rutgers.edu/event/reforesting-the-earth-through-societal-corporatism-a-natural-climate-solution/
LOCATION:Blake Hall — Room 131\, 93 Lipman Dr\, New Brunswick\, NJ\, 08876\, United States
CATEGORIES:Seminars/Colloquia
END:VEVENT
END:VCALENDAR