BEGIN:VCALENDAR
VERSION:2.0
PRODID:-//Rutgers Climate and Energy Institute (RCEI) - ECPv6.15.18//NONSGML v1.0//EN
CALSCALE:GREGORIAN
METHOD:PUBLISH
X-ORIGINAL-URL:https://rcei.rutgers.edu
X-WR-CALDESC:Events for Rutgers Climate and Energy Institute (RCEI)
REFRESH-INTERVAL;VALUE=DURATION:PT1H
X-Robots-Tag:noindex
X-PUBLISHED-TTL:PT1H
BEGIN:VTIMEZONE
TZID:America/New_York
BEGIN:DAYLIGHT
TZOFFSETFROM:-0500
TZOFFSETTO:-0400
TZNAME:EDT
DTSTART:20220313T070000
END:DAYLIGHT
BEGIN:STANDARD
TZOFFSETFROM:-0400
TZOFFSETTO:-0500
TZNAME:EST
DTSTART:20221106T060000
END:STANDARD
BEGIN:DAYLIGHT
TZOFFSETFROM:-0500
TZOFFSETTO:-0400
TZNAME:EDT
DTSTART:20230312T070000
END:DAYLIGHT
BEGIN:STANDARD
TZOFFSETFROM:-0400
TZOFFSETTO:-0500
TZNAME:EST
DTSTART:20231105T060000
END:STANDARD
BEGIN:DAYLIGHT
TZOFFSETFROM:-0500
TZOFFSETTO:-0400
TZNAME:EDT
DTSTART:20240310T070000
END:DAYLIGHT
BEGIN:STANDARD
TZOFFSETFROM:-0400
TZOFFSETTO:-0500
TZNAME:EST
DTSTART:20241103T060000
END:STANDARD
END:VTIMEZONE
BEGIN:VEVENT
DTSTART;TZID=America/New_York:20231201T143000
DTEND;TZID=America/New_York:20231201T153000
DTSTAMP:20260421T140940
CREATED:20231121T143358Z
LAST-MODIFIED:20231121T143358Z
UID:1170-1701441000-1701444600@rcei.rutgers.edu
SUMMARY:The Activation Properties of Fresh and Aged Black Carbon Particles from Biomass Burning
DESCRIPTION:Friday\, December 1\, 2023. 2:30 PM. The Activation Properties of Fresh and Aged Black Carbon Particles from Biomass Burning. Ogochukwu Enekwizu\, Brookhaven National Laboratory. Sponsored by Rutgers Department of Environmental Sciences. More information here.  \nAbstract: Black carbon (BC) particles affect climate directly through the absorption of solar radiation and indirectly by changing cloud properties such as cloud amount and lifetime. An abundant source of BC is biomass burn (BB) events (i.e.\, wildfires)\, which concurrently release copious amounts of condensable organic vapors that form thick coatings that encapsulate the BC. The coatings increase the hydrophilicity of the otherwise hydrophobic BC particles while at the same time increase the particle size\, both of which enhance the ability of these particles to act as cloud condensation nuclei (CCN) and affect their optical properties. Due to the complex interplay between hydrophilic properties of the coating and the hydrophobic properties of the BC “core”\, along with the particle size\, better quantification of the hygroscopic properties for this important class of particle will improve our understanding and representation of the direct and indirect climatic forcing contributions by these particles. In this seminar\, I will discuss the CCN activity of pure and thickly coated BC surrogate particles determined by laboratory measurements under typical atmospheric supersaturations using levoglucosan\, a known tracer for BB\, as a proxy for fresh organic coating and oleic acid as a surrogate for aged organic coating\, as a function of coating thickness for different core (i.e.\, BC) mobility diameters. Additionally\, experimental results are used to derive the hygroscopicity parameter (κ) of the BC core and coatings. The limiting cases of fresh and aged organic coatings\, which span the range of coating ages\, are used to investigate the activation behavior of an ensemble BC particle population consisting of particles with different core diameters and different coating thicknesses and how activation\, in turn\, affects the aerosol optical properties. The findings presented provide a critical fundamental-level understanding of aerosol-cloud interactions for this important class of particles. \nLocation: ENR building\, room 223 
URL:https://rcei.rutgers.edu/event/the-activation-properties-of-fresh-and-aged-black-carbon-particles-from-biomass-burning/
LOCATION:ENR-223\, 14 College Farm Rd\, New Brunswick\, NJ\, 08901\, United States
END:VEVENT
END:VCALENDAR