BEGIN:VCALENDAR
VERSION:2.0
PRODID:-//Rutgers Climate and Energy Institute (RCEI) - ECPv6.15.18//NONSGML v1.0//EN
CALSCALE:GREGORIAN
METHOD:PUBLISH
X-ORIGINAL-URL:https://rcei.rutgers.edu
X-WR-CALDESC:Events for Rutgers Climate and Energy Institute (RCEI)
REFRESH-INTERVAL;VALUE=DURATION:PT1H
X-Robots-Tag:noindex
X-PUBLISHED-TTL:PT1H
BEGIN:VTIMEZONE
TZID:America/New_York
BEGIN:DAYLIGHT
TZOFFSETFROM:-0500
TZOFFSETTO:-0400
TZNAME:EDT
DTSTART:20220313T070000
END:DAYLIGHT
BEGIN:STANDARD
TZOFFSETFROM:-0400
TZOFFSETTO:-0500
TZNAME:EST
DTSTART:20221106T060000
END:STANDARD
BEGIN:DAYLIGHT
TZOFFSETFROM:-0500
TZOFFSETTO:-0400
TZNAME:EDT
DTSTART:20230312T070000
END:DAYLIGHT
BEGIN:STANDARD
TZOFFSETFROM:-0400
TZOFFSETTO:-0500
TZNAME:EST
DTSTART:20231105T060000
END:STANDARD
BEGIN:DAYLIGHT
TZOFFSETFROM:-0500
TZOFFSETTO:-0400
TZNAME:EDT
DTSTART:20240310T070000
END:DAYLIGHT
BEGIN:STANDARD
TZOFFSETFROM:-0400
TZOFFSETTO:-0500
TZNAME:EST
DTSTART:20241103T060000
END:STANDARD
END:VTIMEZONE
BEGIN:VEVENT
DTSTART;TZID=America/New_York:20231207T160000
DTEND;TZID=America/New_York:20231207T170000
DTSTAMP:20260421T125524
CREATED:20231206T051322Z
LAST-MODIFIED:20231206T051322Z
UID:1253-1701964800-1701968400@rcei.rutgers.edu
SUMMARY:Investigating the Evolution of Host Defenses Through Experimental Evolution
DESCRIPTION:Thursday\, December 7\, 2023. 4:00 PM. Investigating the Evolution of Host Defenses Through Experimental Evolution. Jordan Lewis\, Rutgers University. Sponsored by Rutgers Graduate Program in Ecology and Evolution. More information here. \nLocation: Online or in-person in the Philip Alampi Auditorium of Marine and Coastal Sciences Building on the G.H. Cook Campus \n \nImage from: https://jordanlewisphd.com/
URL:https://rcei.rutgers.edu/event/investigating-the-evolution-of-host-defenses-through-experimental-evolution/
LOCATION:Marine & Coastal Sciences Building — Alampi Room\, 71 Dudley Rd\, New Brunswick\, NJ\, 08901\, United States
END:VEVENT
END:VCALENDAR