BEGIN:VCALENDAR
VERSION:2.0
PRODID:-//Rutgers Climate and Energy Institute (RCEI) - ECPv6.15.18//NONSGML v1.0//EN
CALSCALE:GREGORIAN
METHOD:PUBLISH
X-ORIGINAL-URL:https://rcei.rutgers.edu
X-WR-CALDESC:Events for Rutgers Climate and Energy Institute (RCEI)
REFRESH-INTERVAL;VALUE=DURATION:PT1H
X-Robots-Tag:noindex
X-PUBLISHED-TTL:PT1H
BEGIN:VTIMEZONE
TZID:America/New_York
BEGIN:DAYLIGHT
TZOFFSETFROM:-0500
TZOFFSETTO:-0400
TZNAME:EDT
DTSTART:20230312T070000
END:DAYLIGHT
BEGIN:STANDARD
TZOFFSETFROM:-0400
TZOFFSETTO:-0500
TZNAME:EST
DTSTART:20231105T060000
END:STANDARD
BEGIN:DAYLIGHT
TZOFFSETFROM:-0500
TZOFFSETTO:-0400
TZNAME:EDT
DTSTART:20240310T070000
END:DAYLIGHT
BEGIN:STANDARD
TZOFFSETFROM:-0400
TZOFFSETTO:-0500
TZNAME:EST
DTSTART:20241103T060000
END:STANDARD
BEGIN:DAYLIGHT
TZOFFSETFROM:-0500
TZOFFSETTO:-0400
TZNAME:EDT
DTSTART:20250309T070000
END:DAYLIGHT
BEGIN:STANDARD
TZOFFSETFROM:-0400
TZOFFSETTO:-0500
TZNAME:EST
DTSTART:20251102T060000
END:STANDARD
END:VTIMEZONE
BEGIN:VEVENT
DTSTART;TZID=America/New_York:20240131T120000
DTEND;TZID=America/New_York:20240131T130000
DTSTAMP:20260420T182656
CREATED:20240130T152116Z
LAST-MODIFIED:20240130T152706Z
UID:1655-1706702400-1706706000@rcei.rutgers.edu
SUMMARY:Can International Courts Make Governments Act on Climate Science?
DESCRIPTION:Wednesday\, January 31\, 2024. 12:00 PM. Can International Courts Make Governments Act on Climate Science? Cymie Payne\, Rutgers University. Sponsored by Rutgers Department of Human Ecology. More information here. \nAbstract: Climate science isn’t translating into national policies\, so small island developing nations turned to three international courts\, requesting their interpretation of legal obligations. Professor Cymie Payne will share her insights about these cases and her experience leading a team that argued at the Law of the Sea Tribunal.   \nLocation: Rutgers Cook/Douglass Campus\, Blake Hall room 131
URL:https://rcei.rutgers.edu/event/can-international-courts-make-governments-act-on-climate-science-2/
LOCATION:Blake Hall — Room 131\, 93 Lipman Dr\, New Brunswick\, NJ\, 08876\, United States
END:VEVENT
BEGIN:VEVENT
DTSTART;TZID=America/New_York:20240131T160000
DTEND;TZID=America/New_York:20240131T170000
DTSTAMP:20260420T182656
CREATED:20240124T230131Z
LAST-MODIFIED:20240124T230210Z
UID:1631-1706716800-1706720400@rcei.rutgers.edu
SUMMARY:Food Waste Reutilization Awareness Event
DESCRIPTION:Wednesday\, January 31\, 2024. 4:00 PM. Food Waste Reutilization Awareness Event. Angela Oberg\, Rutgers University; Bryan Blair\, Trenton Renewables; Isaac Bearg\, NJ Composting Council. Sponsored by Rutgers EcoComplex and Students for Environmental Awareness. More information here. Register here. \n  \nLocation: Room 202 of the Cook Student Center
URL:https://rcei.rutgers.edu/event/food-waste-reutilization-awareness-event/
LOCATION:Cook Student Center\, 59 Biel Road\, New Brunswick\, NJ\, 08901\, United States
END:VEVENT
END:VCALENDAR