BEGIN:VCALENDAR
VERSION:2.0
PRODID:-//Rutgers Climate and Energy Institute (RCEI) - ECPv6.15.18//NONSGML v1.0//EN
CALSCALE:GREGORIAN
METHOD:PUBLISH
X-ORIGINAL-URL:https://rcei.rutgers.edu
X-WR-CALDESC:Events for Rutgers Climate and Energy Institute (RCEI)
REFRESH-INTERVAL;VALUE=DURATION:PT1H
X-Robots-Tag:noindex
X-PUBLISHED-TTL:PT1H
BEGIN:VTIMEZONE
TZID:America/New_York
BEGIN:DAYLIGHT
TZOFFSETFROM:-0500
TZOFFSETTO:-0400
TZNAME:EDT
DTSTART:20230312T070000
END:DAYLIGHT
BEGIN:STANDARD
TZOFFSETFROM:-0400
TZOFFSETTO:-0500
TZNAME:EST
DTSTART:20231105T060000
END:STANDARD
BEGIN:DAYLIGHT
TZOFFSETFROM:-0500
TZOFFSETTO:-0400
TZNAME:EDT
DTSTART:20240310T070000
END:DAYLIGHT
BEGIN:STANDARD
TZOFFSETFROM:-0400
TZOFFSETTO:-0500
TZNAME:EST
DTSTART:20241103T060000
END:STANDARD
BEGIN:DAYLIGHT
TZOFFSETFROM:-0500
TZOFFSETTO:-0400
TZNAME:EDT
DTSTART:20250309T070000
END:DAYLIGHT
BEGIN:STANDARD
TZOFFSETFROM:-0400
TZOFFSETTO:-0500
TZNAME:EST
DTSTART:20251102T060000
END:STANDARD
END:VTIMEZONE
BEGIN:VEVENT
DTSTART;TZID=America/New_York:20240201T093000
DTEND;TZID=America/New_York:20240201T113000
DTSTAMP:20260422T062735
CREATED:20240130T152452Z
LAST-MODIFIED:20240130T213118Z
UID:1657-1706779800-1706787000@rcei.rutgers.edu
SUMMARY:Bridging the Gap Between Researchers & Government Agencies
DESCRIPTION:Thursday\, February 1\, 2024. 9:30 AM. Bridging the Gap Between Researchers & Government Agencies. Elizabeth Bell\, University of Texas; Aaron Deslatte\, Indiana University. Sponsored by Rutgers New Jersey State Policy Lab. More information here. Register here. \nLocation: Bloustein School\, Civic Square Building 
URL:https://rcei.rutgers.edu/event/bridging-the-gap-between-researchers-government-agencies/
LOCATION:Civic Square Building\, 33 Livingston Avenue\, New Brunswick\, NJ\, 08901\, United States
END:VEVENT
BEGIN:VEVENT
DTSTART;TZID=America/New_York:20240201T160000
DTEND;TZID=America/New_York:20240201T170000
DTSTAMP:20260422T062735
CREATED:20240130T163145Z
LAST-MODIFIED:20240130T163145Z
UID:1662-1706803200-1706806800@rcei.rutgers.edu
SUMMARY:Fish and fishing: a tale across the Pacific Ocean
DESCRIPTION:Thursday\, February 1\, 2024. 4:00 PM. Fish and fishing: a tale across the Pacific Ocean. Joyce Ong\, Nanyang Technological University. Sponsored by Rutgers Ecology and Evolution Graduate Program. More information here. \nAbstract: I  am a fish biologist by training and have completed a PhD on the historical impacts of climate change on fish ecology. I am passionate about the aquatic environment and in particular\, about the use of otoliths (fish ear stones) and the information that can be gleaned from such tiny structures\, such as the age\, annual growth rates\, migration and environmental factors. I have also been involved in other aspects of marine and freshwater ecology such as coral reef monitoring\, seagrass surveys\, turtle research\, in-situ coral experiments and biofouling surveys. I am particularly interested in Southeast Asia\, not only because I grew up in this region\, but also because marine fisheries have major socio-economic impacts on food security and human livelihoods\, yet is relatively data deficient. \nLocation: Philip Alampi Auditorium of Marine and Coastal Sciences Building on the G.H. Cook Campus
URL:https://rcei.rutgers.edu/event/fish-and-fishing-a-tale-across-the-pacific-ocean/
LOCATION:Marine & Coastal Sciences Building — Alampi Room\, 71 Dudley Rd\, New Brunswick\, NJ\, 08901\, United States
END:VEVENT
END:VCALENDAR