BEGIN:VCALENDAR
VERSION:2.0
PRODID:-//Rutgers Climate and Energy Institute (RCEI) - ECPv6.15.18//NONSGML v1.0//EN
CALSCALE:GREGORIAN
METHOD:PUBLISH
X-ORIGINAL-URL:https://rcei.rutgers.edu
X-WR-CALDESC:Events for Rutgers Climate and Energy Institute (RCEI)
REFRESH-INTERVAL;VALUE=DURATION:PT1H
X-Robots-Tag:noindex
X-PUBLISHED-TTL:PT1H
BEGIN:VTIMEZONE
TZID:America/New_York
BEGIN:DAYLIGHT
TZOFFSETFROM:-0500
TZOFFSETTO:-0400
TZNAME:EDT
DTSTART:20230312T070000
END:DAYLIGHT
BEGIN:STANDARD
TZOFFSETFROM:-0400
TZOFFSETTO:-0500
TZNAME:EST
DTSTART:20231105T060000
END:STANDARD
BEGIN:DAYLIGHT
TZOFFSETFROM:-0500
TZOFFSETTO:-0400
TZNAME:EDT
DTSTART:20240310T070000
END:DAYLIGHT
BEGIN:STANDARD
TZOFFSETFROM:-0400
TZOFFSETTO:-0500
TZNAME:EST
DTSTART:20241103T060000
END:STANDARD
BEGIN:DAYLIGHT
TZOFFSETFROM:-0500
TZOFFSETTO:-0400
TZNAME:EDT
DTSTART:20250309T070000
END:DAYLIGHT
BEGIN:STANDARD
TZOFFSETFROM:-0400
TZOFFSETTO:-0500
TZNAME:EST
DTSTART:20251102T060000
END:STANDARD
END:VTIMEZONE
BEGIN:VEVENT
DTSTART;TZID=America/New_York:20240223T143000
DTEND;TZID=America/New_York:20240223T153000
DTSTAMP:20260421T145246
CREATED:20240205T222213Z
LAST-MODIFIED:20240205T222213Z
UID:1694-1708698600-1708702200@rcei.rutgers.edu
SUMMARY:Applications of Machine Learning for Climate Change and Variability
DESCRIPTION:Speaker: Zachary Labe\, Princeton University and NOAA/GFDL  \nAbstract: The popularity of machine learning methods\, such as neural networks\, continues to rapidly grow. The interest in these tools also coincides with a growing influx of big data\, high performance computing capabilities\, and the need for greater efficiency in solving a range of tasks. However\, there is also some hesitancy for considering the use of machine learning algorithms due to concerns about their reliability\, reproducibility\, and interpretability. In this seminar\, I will show examples of how relatively simple classification problems can be combined with explainable artificial intelligence to improve our understanding of climate prediction and projection. Overall\, we find that explainable neural networks are highly skillful in identifying patterns of forced signals within climate model large ensembles and observations. This is especially useful for disentangling regional responses to anthropogenic climate change versus natural variability\, such as in detection and attribution applications. This same explainability framework can be easily adapted for a wide variety of problems in the environmental sciences.  \nMore information here.
URL:https://rcei.rutgers.edu/event/applications-of-machine-learning-for-climate-change-and-variability/
LOCATION:ENR-223\, 14 College Farm Rd\, New Brunswick\, NJ\, 08901\, United States
END:VEVENT
END:VCALENDAR