BEGIN:VCALENDAR
VERSION:2.0
PRODID:-//Rutgers Climate and Energy Institute (RCEI) - ECPv6.15.18//NONSGML v1.0//EN
CALSCALE:GREGORIAN
METHOD:PUBLISH
X-ORIGINAL-URL:https://rcei.rutgers.edu
X-WR-CALDESC:Events for Rutgers Climate and Energy Institute (RCEI)
REFRESH-INTERVAL;VALUE=DURATION:PT1H
X-Robots-Tag:noindex
X-PUBLISHED-TTL:PT1H
BEGIN:VTIMEZONE
TZID:America/New_York
BEGIN:DAYLIGHT
TZOFFSETFROM:-0500
TZOFFSETTO:-0400
TZNAME:EDT
DTSTART:20230312T070000
END:DAYLIGHT
BEGIN:STANDARD
TZOFFSETFROM:-0400
TZOFFSETTO:-0500
TZNAME:EST
DTSTART:20231105T060000
END:STANDARD
BEGIN:DAYLIGHT
TZOFFSETFROM:-0500
TZOFFSETTO:-0400
TZNAME:EDT
DTSTART:20240310T070000
END:DAYLIGHT
BEGIN:STANDARD
TZOFFSETFROM:-0400
TZOFFSETTO:-0500
TZNAME:EST
DTSTART:20241103T060000
END:STANDARD
BEGIN:DAYLIGHT
TZOFFSETFROM:-0500
TZOFFSETTO:-0400
TZNAME:EDT
DTSTART:20250309T070000
END:DAYLIGHT
BEGIN:STANDARD
TZOFFSETFROM:-0400
TZOFFSETTO:-0500
TZNAME:EST
DTSTART:20251102T060000
END:STANDARD
END:VTIMEZONE
BEGIN:VEVENT
DTSTART;TZID=America/New_York:20240320T113000
DTEND;TZID=America/New_York:20240320T123000
DTSTAMP:20260421T153553
CREATED:20240304T233350Z
LAST-MODIFIED:20240304T233350Z
UID:1940-1710934200-1710937800@rcei.rutgers.edu
SUMMARY:EPS Colloquium: Pedro Val\, CUNY Queens College
DESCRIPTION:Speaker: Pedro Val\, CUNY Queens College.  \nMore information here. 
URL:https://rcei.rutgers.edu/event/eps-colloquium-pedro-val-cuny-queens-college/
LOCATION:Wright Auditorium\, Busch Campus\, 610 Taylor Road\, Piscataway\, NJ\, 08854\, United States
END:VEVENT
BEGIN:VEVENT
DTSTART;TZID=America/New_York:20240320T123000
DTEND;TZID=America/New_York:20240320T133000
DTSTAMP:20260421T153553
CREATED:20240212T212438Z
LAST-MODIFIED:20240212T212438Z
UID:1743-1710937800-1710941400@rcei.rutgers.edu
SUMMARY:Against Colonial Conservation (and Other Forms of Carbon Colonialism)
DESCRIPTION:Speaker: Ashley Dawson\, College of Staten Island.  \nMore information here. 
URL:https://rcei.rutgers.edu/event/against-colonial-conservation-and-other-forms-of-carbon-colonialism/
LOCATION:Blake Hall — Room 131\, 93 Lipman Dr\, New Brunswick\, NJ\, 08876\, United States
END:VEVENT
END:VCALENDAR