BEGIN:VCALENDAR
VERSION:2.0
PRODID:-//Rutgers Climate and Energy Institute (RCEI) - ECPv6.15.18//NONSGML v1.0//EN
CALSCALE:GREGORIAN
METHOD:PUBLISH
X-ORIGINAL-URL:https://rcei.rutgers.edu
X-WR-CALDESC:Events for Rutgers Climate and Energy Institute (RCEI)
REFRESH-INTERVAL;VALUE=DURATION:PT1H
X-Robots-Tag:noindex
X-PUBLISHED-TTL:PT1H
BEGIN:VTIMEZONE
TZID:America/New_York
BEGIN:DAYLIGHT
TZOFFSETFROM:-0500
TZOFFSETTO:-0400
TZNAME:EDT
DTSTART:20230312T070000
END:DAYLIGHT
BEGIN:STANDARD
TZOFFSETFROM:-0400
TZOFFSETTO:-0500
TZNAME:EST
DTSTART:20231105T060000
END:STANDARD
BEGIN:DAYLIGHT
TZOFFSETFROM:-0500
TZOFFSETTO:-0400
TZNAME:EDT
DTSTART:20240310T070000
END:DAYLIGHT
BEGIN:STANDARD
TZOFFSETFROM:-0400
TZOFFSETTO:-0500
TZNAME:EST
DTSTART:20241103T060000
END:STANDARD
BEGIN:DAYLIGHT
TZOFFSETFROM:-0500
TZOFFSETTO:-0400
TZNAME:EDT
DTSTART:20250309T070000
END:DAYLIGHT
BEGIN:STANDARD
TZOFFSETFROM:-0400
TZOFFSETTO:-0500
TZNAME:EST
DTSTART:20251102T060000
END:STANDARD
END:VTIMEZONE
BEGIN:VEVENT
DTSTART;TZID=America/New_York:20240426T121500
DTEND;TZID=America/New_York:20240426T133000
DTSTAMP:20260422T104750
CREATED:20240328T214914Z
LAST-MODIFIED:20240328T214914Z
UID:2078-1714133700-1714138200@rcei.rutgers.edu
SUMMARY:Gender\, Fisheries\, and Street Economies in Northwestern Mexico
DESCRIPTION:Speaker: Dr. Maria Cruz-Torres\, Arizona State University
URL:https://rcei.rutgers.edu/event/gender-fisheries-and-street-economies-in-northwestern-mexico/
LOCATION:Marine & Coastal Sciences Building — Alampi Room\, 71 Dudley Rd\, New Brunswick\, NJ\, 08901\, United States
END:VEVENT
BEGIN:VEVENT
DTSTART;TZID=America/New_York:20240426T143000
DTEND;TZID=America/New_York:20240426T153000
DTSTAMP:20260422T104750
CREATED:20240326T151230Z
LAST-MODIFIED:20240326T151230Z
UID:2065-1714141800-1714145400@rcei.rutgers.edu
SUMMARY:Earth System Feedbacks to Air Quality Extremes in a Changing Climate
DESCRIPTION:Speaker: Meiyun Lin\, NOAA GFDL  \nMore information here. 
URL:https://rcei.rutgers.edu/event/earth-system-feedbacks-to-air-quality-extremes-in-a-changing-climate/
LOCATION:ENR-223\, 14 College Farm Rd\, New Brunswick\, NJ\, 08901\, United States
END:VEVENT
BEGIN:VEVENT
DTSTART;TZID=America/New_York:20240426T150000
DTEND;TZID=America/New_York:20240426T160000
DTSTAMP:20260422T104750
CREATED:20240408T215757Z
LAST-MODIFIED:20240408T215757Z
UID:2187-1714143600-1714147200@rcei.rutgers.edu
SUMMARY:Afropolitan Insecurities: Kairological Time and Urban Geographies
DESCRIPTION:Speaker: Brittany Meché\, Williams College  \nAbstract: Through a theorization of kairological time\, that is an attention to notions of prophecy\, propitiousness\, and ordained moments of change\, this talk contemplates the urban geographies of two Sahelian capitals: Dakar\, Senegal and Ouagadougou\, Burkina Faso. Drawing on ethnographic vignettes\, I examine how my informants navigate these sites through forms of watchfulness\, anticipation\, waiting\, and projection\, the ways they re- imagine the cities through prisms of impending disaster. I ask: how do these projections of Sahelian cities contrast with other urban imaginaries? How do these cities exist simultaneously as paragons of Afropolitan aesthetic valorization and also loci of danger? The talk considers forms of anticipation and predictions that frame Sahelian capitals as especially vulnerable to the impacts of climate change and armed conflict. I grapple with the making of these cities as sites of tourism through an Afropolitan sensibility marketed to both foreigners and African and Afro-diasporic communities.  \nMore information here. 
URL:https://rcei.rutgers.edu/event/afropolitan-insecurities-kairological-time-and-urban-geographies/
LOCATION:TIL–264\, 50 Joyce Kilmer Ave\, Piscataway\, NJ\, 08854\, United States
END:VEVENT
BEGIN:VEVENT
DTSTART;TZID=America/New_York:20240426T160000
DTEND;TZID=America/New_York:20240426T170000
DTSTAMP:20260422T104750
CREATED:20240430T214838Z
LAST-MODIFIED:20240430T214838Z
UID:2387-1714147200-1714150800@rcei.rutgers.edu
SUMMARY:Rutgers Climate Town Hall
DESCRIPTION:Abstract: Students for Environmental Awareness and the Sustainability Coalition are bringing together stakeholders from across our campus community to engage in meaningful discussions and initiatives surrounding sustainability at the upcoming Rutgers Climate Town Hall. Hear from Rutgers Office of Climate Action staff members and co-chairs from several of the Rutgers Climate Action Groups. This event is free of charge and food will be provided. You will also have the chance to win a free Red Oak tree seedling in honor of Arbor Day!  \nMore information here.  
URL:https://rcei.rutgers.edu/event/rutgers-climate-town-hall/
LOCATION:College Ave Student Center\, 126 College Ave\, New Brunswick\, NJ\, 08901\, United States
END:VEVENT
END:VCALENDAR