BEGIN:VCALENDAR
VERSION:2.0
PRODID:-//Rutgers Climate and Energy Institute (RCEI) - ECPv6.15.18//NONSGML v1.0//EN
CALSCALE:GREGORIAN
METHOD:PUBLISH
X-WR-CALNAME:Rutgers Climate and Energy Institute (RCEI)
X-ORIGINAL-URL:https://rcei.rutgers.edu
X-WR-CALDESC:Events for Rutgers Climate and Energy Institute (RCEI)
REFRESH-INTERVAL;VALUE=DURATION:PT1H
X-Robots-Tag:noindex
X-PUBLISHED-TTL:PT1H
BEGIN:VTIMEZONE
TZID:America/New_York
BEGIN:DAYLIGHT
TZOFFSETFROM:-0500
TZOFFSETTO:-0400
TZNAME:EDT
DTSTART:20230312T070000
END:DAYLIGHT
BEGIN:STANDARD
TZOFFSETFROM:-0400
TZOFFSETTO:-0500
TZNAME:EST
DTSTART:20231105T060000
END:STANDARD
BEGIN:DAYLIGHT
TZOFFSETFROM:-0500
TZOFFSETTO:-0400
TZNAME:EDT
DTSTART:20240310T070000
END:DAYLIGHT
BEGIN:STANDARD
TZOFFSETFROM:-0400
TZOFFSETTO:-0500
TZNAME:EST
DTSTART:20241103T060000
END:STANDARD
BEGIN:DAYLIGHT
TZOFFSETFROM:-0500
TZOFFSETTO:-0400
TZNAME:EDT
DTSTART:20250309T070000
END:DAYLIGHT
BEGIN:STANDARD
TZOFFSETFROM:-0400
TZOFFSETTO:-0500
TZNAME:EST
DTSTART:20251102T060000
END:STANDARD
END:VTIMEZONE
BEGIN:VEVENT
DTSTART;TZID=America/New_York:20240603T183000
DTEND;TZID=America/New_York:20240603T193000
DTSTAMP:20260425T215146
CREATED:20240522T182318Z
LAST-MODIFIED:20240522T182335Z
UID:2494-1717439400-1717443000@rcei.rutgers.edu
SUMMARY:Webinar: Urban Humpback Whales: Coexisting with Our Charismatic Neighbors
DESCRIPTION:Speaker: Danielle Brown\, Rutgers University  \nAbstract: For our spirit element\, we will discuss how the Humpback whales have become an exciting part of the coastal ecosystem in NJ and NY. Danielle Brown\, Rutgers University\, Graduate Program in Ecology\, Evolution\, and Natural Resources\, and Director of Marine Mammal Research for Gotham Whale\, will discuss what we have learned about humpback whale ecology over the last decade\, and how we can best coexist with whales in our region. \nMore information here. Register here. 
URL:https://rcei.rutgers.edu/event/webinar-urban-humpback-whales-coexisting-with-our-charismatic-neighbors/
END:VEVENT
END:VCALENDAR