BEGIN:VCALENDAR
VERSION:2.0
PRODID:-//Rutgers Climate and Energy Institute (RCEI) - ECPv6.15.18//NONSGML v1.0//EN
CALSCALE:GREGORIAN
METHOD:PUBLISH
X-ORIGINAL-URL:https://rcei.rutgers.edu
X-WR-CALDESC:Events for Rutgers Climate and Energy Institute (RCEI)
REFRESH-INTERVAL;VALUE=DURATION:PT1H
X-Robots-Tag:noindex
X-PUBLISHED-TTL:PT1H
BEGIN:VTIMEZONE
TZID:America/New_York
BEGIN:DAYLIGHT
TZOFFSETFROM:-0500
TZOFFSETTO:-0400
TZNAME:EDT
DTSTART:20230312T070000
END:DAYLIGHT
BEGIN:STANDARD
TZOFFSETFROM:-0400
TZOFFSETTO:-0500
TZNAME:EST
DTSTART:20231105T060000
END:STANDARD
BEGIN:DAYLIGHT
TZOFFSETFROM:-0500
TZOFFSETTO:-0400
TZNAME:EDT
DTSTART:20240310T070000
END:DAYLIGHT
BEGIN:STANDARD
TZOFFSETFROM:-0400
TZOFFSETTO:-0500
TZNAME:EST
DTSTART:20241103T060000
END:STANDARD
BEGIN:DAYLIGHT
TZOFFSETFROM:-0500
TZOFFSETTO:-0400
TZNAME:EDT
DTSTART:20250309T070000
END:DAYLIGHT
BEGIN:STANDARD
TZOFFSETFROM:-0400
TZOFFSETTO:-0500
TZNAME:EST
DTSTART:20251102T060000
END:STANDARD
END:VTIMEZONE
BEGIN:VEVENT
DTSTART;TZID=America/New_York:20241018T090000
DTEND;TZID=America/New_York:20241018T160000
DTSTAMP:20260421T055715
CREATED:20241008T214323Z
LAST-MODIFIED:20241008T214323Z
UID:3807-1729242000-1729267200@rcei.rutgers.edu
SUMMARY:7th Annual Environmental Health and Justice Summit: Plastic Pollution\, Human Health\, and Vulnerable Populations: Uncovering Critical Issues
DESCRIPTION:Speakers: Matt Campen\, University of New Mexico; Serpil Guran\, Rutgers EcoPlex; Melissa Miles\, NJEJA; Phoebe Stapleton\, Rutgers University; Bob Smith\, Senate Environment and Energy Committee; Gary Stevenson\, Paulsboro\, NJ; Cindy Zipf\, Clean Ocean Action.  \nMore information here. Register here.  
URL:https://rcei.rutgers.edu/event/7th-annual-environmental-health-and-justice-summit-plastic-pollution-human-health-and-vulnerable-populations-uncovering-critical-issues/
LOCATION:College Ave Student Center\, 126 College Ave\, New Brunswick\, NJ\, 08901\, United States
END:VEVENT
END:VCALENDAR