BEGIN:VCALENDAR
VERSION:2.0
PRODID:-//Rutgers Climate and Energy Institute (RCEI) - ECPv6.15.18//NONSGML v1.0//EN
CALSCALE:GREGORIAN
METHOD:PUBLISH
X-ORIGINAL-URL:https://rcei.rutgers.edu
X-WR-CALDESC:Events for Rutgers Climate and Energy Institute (RCEI)
REFRESH-INTERVAL;VALUE=DURATION:PT1H
X-Robots-Tag:noindex
X-PUBLISHED-TTL:PT1H
BEGIN:VTIMEZONE
TZID:America/New_York
BEGIN:DAYLIGHT
TZOFFSETFROM:-0500
TZOFFSETTO:-0400
TZNAME:EDT
DTSTART:20230312T070000
END:DAYLIGHT
BEGIN:STANDARD
TZOFFSETFROM:-0400
TZOFFSETTO:-0500
TZNAME:EST
DTSTART:20231105T060000
END:STANDARD
BEGIN:DAYLIGHT
TZOFFSETFROM:-0500
TZOFFSETTO:-0400
TZNAME:EDT
DTSTART:20240310T070000
END:DAYLIGHT
BEGIN:STANDARD
TZOFFSETFROM:-0400
TZOFFSETTO:-0500
TZNAME:EST
DTSTART:20241103T060000
END:STANDARD
BEGIN:DAYLIGHT
TZOFFSETFROM:-0500
TZOFFSETTO:-0400
TZNAME:EDT
DTSTART:20250309T070000
END:DAYLIGHT
BEGIN:STANDARD
TZOFFSETFROM:-0400
TZOFFSETTO:-0500
TZNAME:EST
DTSTART:20251102T060000
END:STANDARD
END:VTIMEZONE
BEGIN:VEVENT
DTSTART;TZID=America/New_York:20241025T140000
DTEND;TZID=America/New_York:20241025T170000
DTSTAMP:20260424T020721
CREATED:20241001T222020Z
LAST-MODIFIED:20241009T141027Z
UID:3743-1729864800-1729875600@rcei.rutgers.edu
SUMMARY:Rutgers Tropical Studies Symposium
DESCRIPTION:Speakers: Christina Bergey\, Mary Whelan\,  Erin Vogel\, Rutgers University; María Fernanda Figueroa Díaz Escobar\, Universidad Nacional Autónoma de México; Erin Kuprewicz\, University of Connecticut; Marley Peifer\, Nature Journaling and Education. \nAbstract:Do you research tropical environments and/or work with people and communities in the Tropics? Do you teach or want to create courses on tropical environments or societies? Or perhaps you are interested in the Tropics as a fascinating area of the world? This symposium will feature six special guest speakers with experience working in Mexico\, Costa Rica\, the Amazon Basin\, Africa\, and Indonesia\, as part of two panels\, one on research and one on education. Join us for an afternoon of stories and ideas on new research tools and student engagement\, on rainforests\, orangutans\, and beetles (without the mud\, sweat\, and mosquitos!).  \nMore information here. Register here. 
URL:https://rcei.rutgers.edu/event/rutgers-tropical-studies-symposium/
LOCATION:IFNH-101\, 61 Dudley Road\, New Brunswick\, NJ\, 08901\, United States
END:VEVENT
BEGIN:VEVENT
DTSTART;TZID=America/New_York:20241025T143000
DTEND;TZID=America/New_York:20241025T153000
DTSTAMP:20260424T020721
CREATED:20241016T145910Z
LAST-MODIFIED:20241016T145910Z
UID:3860-1729866600-1729870200@rcei.rutgers.edu
SUMMARY:Federal Opportunities in the Water and Wastewater Infrastructure Sector
DESCRIPTION:Speaker: Valdis Krumins\, USDA  \nVirtual option available. More information here. 
URL:https://rcei.rutgers.edu/event/federal-opportunities-in-the-water-and-wastewater-infrastructure-sector/
LOCATION:ENR-223\, 14 College Farm Rd\, New Brunswick\, NJ\, 08901\, United States
END:VEVENT
END:VCALENDAR