BEGIN:VCALENDAR
VERSION:2.0
PRODID:-//Rutgers Climate and Energy Institute (RCEI) - ECPv6.15.18//NONSGML v1.0//EN
CALSCALE:GREGORIAN
METHOD:PUBLISH
X-ORIGINAL-URL:https://rcei.rutgers.edu
X-WR-CALDESC:Events for Rutgers Climate and Energy Institute (RCEI)
REFRESH-INTERVAL;VALUE=DURATION:PT1H
X-Robots-Tag:noindex
X-PUBLISHED-TTL:PT1H
BEGIN:VTIMEZONE
TZID:America/New_York
BEGIN:DAYLIGHT
TZOFFSETFROM:-0500
TZOFFSETTO:-0400
TZNAME:EDT
DTSTART:20230312T070000
END:DAYLIGHT
BEGIN:STANDARD
TZOFFSETFROM:-0400
TZOFFSETTO:-0500
TZNAME:EST
DTSTART:20231105T060000
END:STANDARD
BEGIN:DAYLIGHT
TZOFFSETFROM:-0500
TZOFFSETTO:-0400
TZNAME:EDT
DTSTART:20240310T070000
END:DAYLIGHT
BEGIN:STANDARD
TZOFFSETFROM:-0400
TZOFFSETTO:-0500
TZNAME:EST
DTSTART:20241103T060000
END:STANDARD
BEGIN:DAYLIGHT
TZOFFSETFROM:-0500
TZOFFSETTO:-0400
TZNAME:EDT
DTSTART:20250309T070000
END:DAYLIGHT
BEGIN:STANDARD
TZOFFSETFROM:-0400
TZOFFSETTO:-0500
TZNAME:EST
DTSTART:20251102T060000
END:STANDARD
END:VTIMEZONE
BEGIN:VEVENT
DTSTART;VALUE=DATE:20241028
DTEND;VALUE=DATE:20241103
DTSTAMP:20260421T041331
CREATED:20240206T001409Z
LAST-MODIFIED:20240213T170118Z
UID:1713-1730073600-1730591999@rcei.rutgers.edu
SUMMARY:NAWEA/ WindTech 2024: Premier Technical Conference on Wind Energy in North America
DESCRIPTION:  \nPlease mark your calendars for the NAWEA / WindTech 2024 Conference\, the premier technical event on wind energy in North America\, hosted by Rutgers University\, and co-organized by the New Jersey Academic Alliance for Offshore Wind (A2OSW)! \n\nThe all–inclusive event period is Oct. 28 (Mon) – Nov. 2 (Sat)\, 2024.\nThe main conference will take place Oct. 30 (Wed) – Nov. 1 (Fri)\, at the Hyatt Regency in New Brunswick\, NJ.\nSide events will be on various Rutgers–New Brunswick locations (College Ave. and Busch campuses).\n\nFor more information\, including abstract submission and registration information\, follow the link here.
URL:https://rcei.rutgers.edu/event/nawea-windtech-2024/
LOCATION:Hyatt Regency New Brunswick\, 2 Albany St\, New Brunswick\, NJ\, 08901\, United States
END:VEVENT
BEGIN:VEVENT
DTSTART;TZID=America/New_York:20241030T120000
DTEND;TZID=America/New_York:20241030T130000
DTSTAMP:20260421T041331
CREATED:20241022T175603Z
LAST-MODIFIED:20241022T175603Z
UID:3874-1730289600-1730293200@rcei.rutgers.edu
SUMMARY:Building Community Through Seafood
DESCRIPTION:Speaker: Dr. Talia Young\, Founder and Director of Fishadelphia and Visiting Assistant Professor of Environmental Science at Haverford College
URL:https://rcei.rutgers.edu/event/building-community-through-seafood/
LOCATION:Marine & Coastal Sciences Building — Alampi Room\, 71 Dudley Rd\, New Brunswick\, NJ\, 08901\, United States
END:VEVENT
BEGIN:VEVENT
DTSTART;TZID=America/New_York:20241030T153000
DTEND;TZID=America/New_York:20241030T163000
DTSTAMP:20260421T041331
CREATED:20241022T180153Z
LAST-MODIFIED:20241022T180153Z
UID:3876-1730302200-1730305800@rcei.rutgers.edu
SUMMARY:Ignition and the evolving landscape of fusion energy
DESCRIPTION:Speaker: Laura Berzak Hopkins\, Princeton Plasma Physics Laboratory  \nMore information here. 
URL:https://rcei.rutgers.edu/event/ignition-and-the-evolving-landscape-of-fusion-energy/
LOCATION:SRN-330\, 136 Frelinghuysen Road\, Piscataway\, NJ\, 08854\, United States
END:VEVENT
END:VCALENDAR