BEGIN:VCALENDAR
VERSION:2.0
PRODID:-//Rutgers Climate and Energy Institute (RCEI) - ECPv6.15.18//NONSGML v1.0//EN
CALSCALE:GREGORIAN
METHOD:PUBLISH
X-WR-CALNAME:Rutgers Climate and Energy Institute (RCEI)
X-ORIGINAL-URL:https://rcei.rutgers.edu
X-WR-CALDESC:Events for Rutgers Climate and Energy Institute (RCEI)
REFRESH-INTERVAL;VALUE=DURATION:PT1H
X-Robots-Tag:noindex
X-PUBLISHED-TTL:PT1H
BEGIN:VTIMEZONE
TZID:America/New_York
BEGIN:DAYLIGHT
TZOFFSETFROM:-0500
TZOFFSETTO:-0400
TZNAME:EDT
DTSTART:20230312T070000
END:DAYLIGHT
BEGIN:STANDARD
TZOFFSETFROM:-0400
TZOFFSETTO:-0500
TZNAME:EST
DTSTART:20231105T060000
END:STANDARD
BEGIN:DAYLIGHT
TZOFFSETFROM:-0500
TZOFFSETTO:-0400
TZNAME:EDT
DTSTART:20240310T070000
END:DAYLIGHT
BEGIN:STANDARD
TZOFFSETFROM:-0400
TZOFFSETTO:-0500
TZNAME:EST
DTSTART:20241103T060000
END:STANDARD
BEGIN:DAYLIGHT
TZOFFSETFROM:-0500
TZOFFSETTO:-0400
TZNAME:EDT
DTSTART:20250309T070000
END:DAYLIGHT
BEGIN:STANDARD
TZOFFSETFROM:-0400
TZOFFSETTO:-0500
TZNAME:EST
DTSTART:20251102T060000
END:STANDARD
END:VTIMEZONE
BEGIN:VEVENT
DTSTART;VALUE=DATE:20241028
DTEND;VALUE=DATE:20241103
DTSTAMP:20260423T123933
CREATED:20240206T001409Z
LAST-MODIFIED:20240213T170118Z
UID:1713-1730073600-1730591999@rcei.rutgers.edu
SUMMARY:NAWEA/ WindTech 2024: Premier Technical Conference on Wind Energy in North America
DESCRIPTION:  \nPlease mark your calendars for the NAWEA / WindTech 2024 Conference\, the premier technical event on wind energy in North America\, hosted by Rutgers University\, and co-organized by the New Jersey Academic Alliance for Offshore Wind (A2OSW)! \n\nThe all–inclusive event period is Oct. 28 (Mon) – Nov. 2 (Sat)\, 2024.\nThe main conference will take place Oct. 30 (Wed) – Nov. 1 (Fri)\, at the Hyatt Regency in New Brunswick\, NJ.\nSide events will be on various Rutgers–New Brunswick locations (College Ave. and Busch campuses).\n\nFor more information\, including abstract submission and registration information\, follow the link here.
URL:https://rcei.rutgers.edu/event/nawea-windtech-2024/
LOCATION:Hyatt Regency New Brunswick\, 2 Albany St\, New Brunswick\, NJ\, 08901\, United States
END:VEVENT
BEGIN:VEVENT
DTSTART;TZID=America/New_York:20241101T140000
DTEND;TZID=America/New_York:20241101T150000
DTSTAMP:20260423T123934
CREATED:20241022T180628Z
LAST-MODIFIED:20241022T180628Z
UID:3881-1730469600-1730473200@rcei.rutgers.edu
SUMMARY:Climate Smart Circular Bioeconomy: A Challenge and Opportunity for Agricultural Economics Departments
DESCRIPTION:Speaker: David Zilberman\, University of California\, Berkeley  \nAbstract: Zilberman’s research analyzes water\, innovation\, sustainability\, agriculture\, energy\, and the environment. He has researched the economics and political economy of agricultural biotechnology and the potential of the bioeconomy. \nMore information here. 
URL:https://rcei.rutgers.edu/event/climate-smart-circular-bioeconomy-a-challenge-and-opportunity-for-agricultural-economics-departments/
LOCATION:COB–118\, 55 Dudley Road\, New Brunswick\, NJ\, 08901\, United States
END:VEVENT
BEGIN:VEVENT
DTSTART;TZID=America/New_York:20241101T143000
DTEND;TZID=America/New_York:20241101T153000
DTSTAMP:20260423T123934
CREATED:20241022T180939Z
LAST-MODIFIED:20241022T180939Z
UID:3883-1730471400-1730475000@rcei.rutgers.edu
SUMMARY:Modeling the Direct Radiative Forcing and Climate Impacts of the 2022 Hunga Volcano Explosion
DESCRIPTION:Speaker: Georgiy Stenchikov\, King Abdullah University of Science and Technology  \nMore information here. 
URL:https://rcei.rutgers.edu/event/modeling-the-direct-radiative-forcing-and-climate-impacts-of-the-2022-hunga-volcano-explosion/
LOCATION:ENR-223\, 14 College Farm Rd\, New Brunswick\, NJ\, 08901\, United States
END:VEVENT
END:VCALENDAR