BEGIN:VCALENDAR
VERSION:2.0
PRODID:-//Rutgers Climate and Energy Institute (RCEI) - ECPv6.15.18//NONSGML v1.0//EN
CALSCALE:GREGORIAN
METHOD:PUBLISH
X-ORIGINAL-URL:https://rcei.rutgers.edu
X-WR-CALDESC:Events for Rutgers Climate and Energy Institute (RCEI)
REFRESH-INTERVAL;VALUE=DURATION:PT1H
X-Robots-Tag:noindex
X-PUBLISHED-TTL:PT1H
BEGIN:VTIMEZONE
TZID:America/New_York
BEGIN:DAYLIGHT
TZOFFSETFROM:-0500
TZOFFSETTO:-0400
TZNAME:EDT
DTSTART:20230312T070000
END:DAYLIGHT
BEGIN:STANDARD
TZOFFSETFROM:-0400
TZOFFSETTO:-0500
TZNAME:EST
DTSTART:20231105T060000
END:STANDARD
BEGIN:DAYLIGHT
TZOFFSETFROM:-0500
TZOFFSETTO:-0400
TZNAME:EDT
DTSTART:20240310T070000
END:DAYLIGHT
BEGIN:STANDARD
TZOFFSETFROM:-0400
TZOFFSETTO:-0500
TZNAME:EST
DTSTART:20241103T060000
END:STANDARD
BEGIN:DAYLIGHT
TZOFFSETFROM:-0500
TZOFFSETTO:-0400
TZNAME:EDT
DTSTART:20250309T070000
END:DAYLIGHT
BEGIN:STANDARD
TZOFFSETFROM:-0400
TZOFFSETTO:-0500
TZNAME:EST
DTSTART:20251102T060000
END:STANDARD
END:VTIMEZONE
BEGIN:VEVENT
DTSTART;TZID=America/New_York:20241112T153000
DTEND;TZID=America/New_York:20241112T163000
DTSTAMP:20260424T040447
CREATED:20241105T145143Z
LAST-MODIFIED:20241107T110017Z
UID:3991-1731425400-1731429000@rcei.rutgers.edu
SUMMARY:Exceptional Stratospheric Contribution to Human Fingerprints  on Atmospheric Temperature
DESCRIPTION:Benjamin Santer will give a technical talk titled “Exceptional Stratospheric Contribution to Human Fingerprints on Atmospheric Temperature”. The talk is hybrid and will take place on Nov. 12\, 2024\, at 3:30 PM in the Alampi Room\, Marine and Coastal Sciences Building and Webinar through Zoom\, with this registration link. This event is co-sponsored by RCEI and Rutgers Graduate Program in Atmosperic Sciences. Below is Dr. Santer’s description for the talk: \nIn 1967\, Suki Manabe and Richard Wetherald used a simple climate model to predict that human-caused increases in atmospheric CO2 should warm Earth’s troposphere and cool the stratosphere. This important signature of anthropogenic climate change was subsequently documented in weather balloon and satellite temperature measurements extending from near-surface to the lower stratosphere. Stratospheric cooling has also been confirmed in the mid- to upper stratosphere\, a layer extending from roughly 25 to 50 km above Earth’s surface (S25-50). Until recently\, however\, S25-50 temperatures had not been used in pattern-based attribution studies of anthropogenic climate change. \nMy talk describes the first such “fingerprint” study\, with satellite-derived patterns of temperature change extending from the lower troposphere to the upper stratosphere. Including S25-50 information increases signal-to-noise ratios by a factor of five\, markedly enhancing fingerprint detectability. Key features of this global-scale human fingerprint include stratospheric cooling and tropospheric warming at all latitudes\, with stratospheric cooling amplifying with height. In contrast\, the dominant modes of internal variability in S25-50 have smaller-scale temperature changes and lack uniform sign. These pronounced spatial differences between the S25-50 signal and noise patterns are accompanied by large cooling of the S25-50 layer (1-2°C over 1986 to 2022) and low S25-50 noise levels. Our results explain why extending “vertical fingerprinting” to the mid- to upper stratosphere yields incontrovertible evidence of human effects on the thermal structure of Earth’s atmosphere. \nThe end of my talk will consider a simple thought experiment: If satellite temperature data had existed in 1860\, when could a human fingerprint on atmospheric temperature have been first detected? I will address this question with output from CMIP6 simulations of historical climate change.
URL:https://rcei.rutgers.edu/event/exceptional-stratospheric-contribution-to-human-fingerprints-on-atmospheric-temperature/
LOCATION:Marine & Coastal Sciences Building — Alampi Room\, 71 Dudley Rd\, New Brunswick\, NJ\, 08901\, United States
END:VEVENT
BEGIN:VEVENT
DTSTART;TZID=America/New_York:20241112T183000
DTEND;TZID=America/New_York:20241112T193000
DTSTAMP:20260424T040447
CREATED:20241106T210601Z
LAST-MODIFIED:20241106T210601Z
UID:4015-1731436200-1731439800@rcei.rutgers.edu
SUMMARY:Webinar: Changes in South Jersey Estuaries: Influences of Climate Change\, Invasive Species and Human Modifications
DESCRIPTION:Speaker: Ken Able\, Rutgers University \nMore information here. Register here.
URL:https://rcei.rutgers.edu/event/webinar-changes-in-south-jersey-estuaries-influences-of-climate-change-invasive-species-and-human-modifications/
END:VEVENT
END:VCALENDAR