BEGIN:VCALENDAR
VERSION:2.0
PRODID:-//Rutgers Climate and Energy Institute (RCEI) - ECPv6.15.18//NONSGML v1.0//EN
CALSCALE:GREGORIAN
METHOD:PUBLISH
X-ORIGINAL-URL:https://rcei.rutgers.edu
X-WR-CALDESC:Events for Rutgers Climate and Energy Institute (RCEI)
REFRESH-INTERVAL;VALUE=DURATION:PT1H
X-Robots-Tag:noindex
X-PUBLISHED-TTL:PT1H
BEGIN:VTIMEZONE
TZID:America/New_York
BEGIN:DAYLIGHT
TZOFFSETFROM:-0500
TZOFFSETTO:-0400
TZNAME:EDT
DTSTART:20240310T070000
END:DAYLIGHT
BEGIN:STANDARD
TZOFFSETFROM:-0400
TZOFFSETTO:-0500
TZNAME:EST
DTSTART:20241103T060000
END:STANDARD
BEGIN:DAYLIGHT
TZOFFSETFROM:-0500
TZOFFSETTO:-0400
TZNAME:EDT
DTSTART:20250309T070000
END:DAYLIGHT
BEGIN:STANDARD
TZOFFSETFROM:-0400
TZOFFSETTO:-0500
TZNAME:EST
DTSTART:20251102T060000
END:STANDARD
BEGIN:DAYLIGHT
TZOFFSETFROM:-0500
TZOFFSETTO:-0400
TZNAME:EDT
DTSTART:20260308T070000
END:DAYLIGHT
BEGIN:STANDARD
TZOFFSETFROM:-0400
TZOFFSETTO:-0500
TZNAME:EST
DTSTART:20261101T060000
END:STANDARD
END:VTIMEZONE
BEGIN:VEVENT
DTSTART;TZID=America/New_York:20250414T154500
DTEND;TZID=America/New_York:20250414T170000
DTSTAMP:20260421T185246
CREATED:20250401T171731Z
LAST-MODIFIED:20250401T171731Z
UID:4879-1744645500-1744650000@rcei.rutgers.edu
SUMMARY:Biological Oceanography/Fisheries and Aquaculture
DESCRIPTION:Speaker: Mike Aquafrieda\, Rutgers University \nMore information here.
URL:https://rcei.rutgers.edu/event/biological-oceanography-fisheries-and-aquaculture/
LOCATION:Marine & Coastal Sciences Building — Alampi Room\, 71 Dudley Rd\, New Brunswick\, NJ\, 08901\, United States
END:VEVENT
BEGIN:VEVENT
DTSTART;TZID=America/New_York:20250414T173000
DTEND;TZID=America/New_York:20250414T183000
DTSTAMP:20260421T185246
CREATED:20250409T175136Z
LAST-MODIFIED:20250409T175136Z
UID:4953-1744651800-1744655400@rcei.rutgers.edu
SUMMARY:Growing the Garden State's Seafood Plate: The Past\, Present\, and Future of NJ Aquaculture
DESCRIPTION:Speaker: Michael Acquafredda\, Rutgers University.  \nVirtual option available.
URL:https://rcei.rutgers.edu/event/growing-the-garden-states-seafood-plate-the-past-present-and-future-of-nj-aquaculture/
LOCATION:Marine & Coastal Sciences Building — Alampi Room\, 71 Dudley Rd\, New Brunswick\, NJ\, 08901\, United States
END:VEVENT
BEGIN:VEVENT
DTSTART;TZID=America/New_York:20250414T173000
DTEND;TZID=America/New_York:20250414T190000
DTSTAMP:20260421T185246
CREATED:20250409T163847Z
LAST-MODIFIED:20250409T163848Z
UID:4920-1744651800-1744657200@rcei.rutgers.edu
SUMMARY:Global Famine after Nuclear War
DESCRIPTION:Speaker: Alan Robock\, Rutgers University \nFlyer here. Register here. \n 
URL:https://rcei.rutgers.edu/event/global-famine-after-nuclear-war/
LOCATION:FS–105\, 65 Dudley Rd\, New Brunswick\, NJ\, 08901\, United States
END:VEVENT
BEGIN:VEVENT
DTSTART;TZID=America/New_York:20250414T180000
DTEND;TZID=America/New_York:20250414T190000
DTSTAMP:20260421T185246
CREATED:20250401T171942Z
LAST-MODIFIED:20250401T171942Z
UID:4881-1744653600-1744657200@rcei.rutgers.edu
SUMMARY:Webinar: Forestry Success in the Pinelands
DESCRIPTION:Speaker: Benjamin Pisano and Dylan Wiget\, NJ Forest Service \nMore information here. 
URL:https://rcei.rutgers.edu/event/webinar-forestry-success-in-the-pinelands/
END:VEVENT
END:VCALENDAR