BEGIN:VCALENDAR
VERSION:2.0
PRODID:-//Rutgers Climate and Energy Institute (RCEI) - ECPv6.15.18//NONSGML v1.0//EN
CALSCALE:GREGORIAN
METHOD:PUBLISH
X-WR-CALNAME:Rutgers Climate and Energy Institute (RCEI)
X-ORIGINAL-URL:https://rcei.rutgers.edu
X-WR-CALDESC:Events for Rutgers Climate and Energy Institute (RCEI)
REFRESH-INTERVAL;VALUE=DURATION:PT1H
X-Robots-Tag:noindex
X-PUBLISHED-TTL:PT1H
BEGIN:VTIMEZONE
TZID:America/New_York
BEGIN:DAYLIGHT
TZOFFSETFROM:-0500
TZOFFSETTO:-0400
TZNAME:EDT
DTSTART:20240310T070000
END:DAYLIGHT
BEGIN:STANDARD
TZOFFSETFROM:-0400
TZOFFSETTO:-0500
TZNAME:EST
DTSTART:20241103T060000
END:STANDARD
BEGIN:DAYLIGHT
TZOFFSETFROM:-0500
TZOFFSETTO:-0400
TZNAME:EDT
DTSTART:20250309T070000
END:DAYLIGHT
BEGIN:STANDARD
TZOFFSETFROM:-0400
TZOFFSETTO:-0500
TZNAME:EST
DTSTART:20251102T060000
END:STANDARD
BEGIN:DAYLIGHT
TZOFFSETFROM:-0500
TZOFFSETTO:-0400
TZNAME:EDT
DTSTART:20260308T070000
END:DAYLIGHT
BEGIN:STANDARD
TZOFFSETFROM:-0400
TZOFFSETTO:-0500
TZNAME:EST
DTSTART:20261101T060000
END:STANDARD
END:VTIMEZONE
BEGIN:VEVENT
DTSTART;TZID=America/New_York:20251112T080000
DTEND;TZID=America/New_York:20251112T150000
DTSTAMP:20260425T234731
CREATED:20250929T165826Z
LAST-MODIFIED:20251002T195249Z
UID:5968-1762934400-1762959600@rcei.rutgers.edu
SUMMARY:Rutgers Climate Symposium 2025
DESCRIPTION:Please join the Rutgers Climate and Energy Institute for the Rutgers Climate Symposium 2025: The Blue Planet! This symposium will feature speakers: Jason Cotrell\, Sperra; Cymie Payne\, Rutgers University; Helen Rozwadowski\, University of Connecticut; Joellen Russell\, University of Arizona. This event will take place on November 12\, 2025 at the Douglass Student Center\, Rutgers University in person and virtually. Register for in person here and virtual here. \n \n 
URL:https://rcei.rutgers.edu/event/rutgers-climate-symposium-2025/
LOCATION:Douglass Student Center\, 100 George St\, New Brunswick\, 08901\, United States
END:VEVENT
BEGIN:VEVENT
DTSTART;TZID=America/New_York:20251112T120000
DTEND;TZID=America/New_York:20251112T130000
DTSTAMP:20260425T234731
CREATED:20251030T170304Z
LAST-MODIFIED:20251030T170304Z
UID:6381-1762948800-1762952400@rcei.rutgers.edu
SUMMARY:Price Regulation and the Adoption–Innovation Trade-off
DESCRIPTION:12:00 PM EDT. Rutgers Department of Agricultural\, Food\, and Resource Economics. Speaker: Matteo Ruzzante\, Northeastern University. Location: Cook Office Building 55 Dudley Rd\, room 118.
URL:https://rcei.rutgers.edu/event/price-regulation-and-the-adoption-innovation-trade-off/
LOCATION:Cook Office Building – Room 118\, 55 Dudley Road\, New Brunswick\, NJ\, 08901\, United States
END:VEVENT
BEGIN:VEVENT
DTSTART;TZID=America/New_York:20251112T120000
DTEND;TZID=America/New_York:20251112T130000
DTSTAMP:20260425T234731
CREATED:20251030T170545Z
LAST-MODIFIED:20251030T170545Z
UID:6384-1762948800-1762952400@rcei.rutgers.edu
SUMMARY:Rutgers student basic needs insecurities research and programming
DESCRIPTION:12:00 PM EDT. Rutgers Bloustein School of Planning and Public Policy. Speaker: Cara Cuite. Location: 33 Livingston Avenue New Brunswick\, NJ 08901 United States.
URL:https://rcei.rutgers.edu/event/rutgers-student-basic-needs-insecurities-research-and-programming/
LOCATION:33 Livingston Avenue
END:VEVENT
END:VCALENDAR