BEGIN:VCALENDAR
VERSION:2.0
PRODID:-//Rutgers Climate and Energy Institute (RCEI) - ECPv6.15.18//NONSGML v1.0//EN
CALSCALE:GREGORIAN
METHOD:PUBLISH
X-WR-CALNAME:Rutgers Climate and Energy Institute (RCEI)
X-ORIGINAL-URL:https://rcei.rutgers.edu
X-WR-CALDESC:Events for Rutgers Climate and Energy Institute (RCEI)
REFRESH-INTERVAL;VALUE=DURATION:PT1H
X-Robots-Tag:noindex
X-PUBLISHED-TTL:PT1H
BEGIN:VTIMEZONE
TZID:America/New_York
BEGIN:DAYLIGHT
TZOFFSETFROM:-0500
TZOFFSETTO:-0400
TZNAME:EDT
DTSTART:20240310T070000
END:DAYLIGHT
BEGIN:STANDARD
TZOFFSETFROM:-0400
TZOFFSETTO:-0500
TZNAME:EST
DTSTART:20241103T060000
END:STANDARD
BEGIN:DAYLIGHT
TZOFFSETFROM:-0500
TZOFFSETTO:-0400
TZNAME:EDT
DTSTART:20250309T070000
END:DAYLIGHT
BEGIN:STANDARD
TZOFFSETFROM:-0400
TZOFFSETTO:-0500
TZNAME:EST
DTSTART:20251102T060000
END:STANDARD
BEGIN:DAYLIGHT
TZOFFSETFROM:-0500
TZOFFSETTO:-0400
TZNAME:EDT
DTSTART:20260308T070000
END:DAYLIGHT
BEGIN:STANDARD
TZOFFSETFROM:-0400
TZOFFSETTO:-0500
TZNAME:EST
DTSTART:20261101T060000
END:STANDARD
END:VTIMEZONE
BEGIN:VEVENT
DTSTART;TZID=America/New_York:20251118T120000
DTEND;TZID=America/New_York:20251118T130000
DTSTAMP:20260425T234734
CREATED:20251106T172149Z
LAST-MODIFIED:20251106T172149Z
UID:6437-1763467200-1763470800@rcei.rutgers.edu
SUMMARY:Preventing Lead (Pb) Contamination in Rural Water Systems in Low- and Middle-Income Countries: An Implementation Science Case Study from Ghana
DESCRIPTION:12:00 PM EST. Rutgers Department of Human Ecology. Speaker: Dr. Siddhartha Roy\, Dept. Environmental Sciences at Rutgers University. Location: Blake Hall\, Room 131 or Webinar.
URL:https://rcei.rutgers.edu/event/preventing-lead-pb-contamination-in-rural-water-systems-in-low-and-middle-income-countries-an-implementation-science-case-study-from-ghana/
LOCATION:Blake Hall — Room 131\, 93 Lipman Dr\, New Brunswick\, NJ\, 08876\, United States
END:VEVENT
END:VCALENDAR