BEGIN:VCALENDAR
VERSION:2.0
PRODID:-//Rutgers Climate and Energy Institute (RCEI) - ECPv6.15.18//NONSGML v1.0//EN
CALSCALE:GREGORIAN
METHOD:PUBLISH
X-WR-CALNAME:Rutgers Climate and Energy Institute (RCEI)
X-ORIGINAL-URL:https://rcei.rutgers.edu
X-WR-CALDESC:Events for Rutgers Climate and Energy Institute (RCEI)
REFRESH-INTERVAL;VALUE=DURATION:PT1H
X-Robots-Tag:noindex
X-PUBLISHED-TTL:PT1H
BEGIN:VTIMEZONE
TZID:America/New_York
BEGIN:DAYLIGHT
TZOFFSETFROM:-0500
TZOFFSETTO:-0400
TZNAME:EDT
DTSTART:20250309T070000
END:DAYLIGHT
BEGIN:STANDARD
TZOFFSETFROM:-0400
TZOFFSETTO:-0500
TZNAME:EST
DTSTART:20251102T060000
END:STANDARD
BEGIN:DAYLIGHT
TZOFFSETFROM:-0500
TZOFFSETTO:-0400
TZNAME:EDT
DTSTART:20260308T070000
END:DAYLIGHT
BEGIN:STANDARD
TZOFFSETFROM:-0400
TZOFFSETTO:-0500
TZNAME:EST
DTSTART:20261101T060000
END:STANDARD
BEGIN:DAYLIGHT
TZOFFSETFROM:-0500
TZOFFSETTO:-0400
TZNAME:EDT
DTSTART:20270314T070000
END:DAYLIGHT
BEGIN:STANDARD
TZOFFSETFROM:-0400
TZOFFSETTO:-0500
TZNAME:EST
DTSTART:20271107T060000
END:STANDARD
END:VTIMEZONE
BEGIN:VEVENT
DTSTART;TZID=America/New_York:20260204T113000
DTEND;TZID=America/New_York:20260204T123000
DTSTAMP:20260423T032428
CREATED:20260128T173751Z
LAST-MODIFIED:20260128T173751Z
UID:6898-1770204600-1770208200@rcei.rutgers.edu
SUMMARY:Redox-driven mineral and organic associations in Jezero Crater\, Mars
DESCRIPTION:11:30 PM EDT. Department of Earth and Planetary Sciences. Speaker: Joel Hurowitz\, Stony Brook University. Location: Wright Labs Auditorium and Virtual.
URL:https://rcei.rutgers.edu/event/redox-driven-mineral-and-organic-associations-in-jezero-crater-mars/
LOCATION:Wright Auditorium\, Busch Campus\, 610 Taylor Road\, Piscataway\, NJ\, 08854\, United States
END:VEVENT
BEGIN:VEVENT
DTSTART;TZID=America/New_York:20260204T120000
DTEND;TZID=America/New_York:20260204T130000
DTSTAMP:20260423T032428
CREATED:20260128T173901Z
LAST-MODIFIED:20260128T173901Z
UID:6900-1770206400-1770210000@rcei.rutgers.edu
SUMMARY:The Future of Utility-Scale Solar Installations On US Farmland in a Changing Climate
DESCRIPTION:12:00 PM EDT. Department of Agriculture\, Food\, and Resource Economics. and  Speaker: Paul H. O’Neill\, University of Indiana Indianapolis. Location: Cook Office Building Room 118 and Zoom.
URL:https://rcei.rutgers.edu/event/the-future-of-utility-scale-solar-installations-on-us-farmland-in-a-changing-climate/
LOCATION:Cook Office Building – Room 118\, 55 Dudley Road\, New Brunswick\, NJ\, 08901\, United States
END:VEVENT
END:VCALENDAR