BEGIN:VCALENDAR
VERSION:2.0
PRODID:-//Rutgers Climate and Energy Institute (RCEI) - ECPv6.15.18//NONSGML v1.0//EN
CALSCALE:GREGORIAN
METHOD:PUBLISH
X-WR-CALNAME:Rutgers Climate and Energy Institute (RCEI)
X-ORIGINAL-URL:https://rcei.rutgers.edu
X-WR-CALDESC:Events for Rutgers Climate and Energy Institute (RCEI)
REFRESH-INTERVAL;VALUE=DURATION:PT1H
X-Robots-Tag:noindex
X-PUBLISHED-TTL:PT1H
BEGIN:VTIMEZONE
TZID:America/New_York
BEGIN:DAYLIGHT
TZOFFSETFROM:-0500
TZOFFSETTO:-0400
TZNAME:EDT
DTSTART:20250309T070000
END:DAYLIGHT
BEGIN:STANDARD
TZOFFSETFROM:-0400
TZOFFSETTO:-0500
TZNAME:EST
DTSTART:20251102T060000
END:STANDARD
BEGIN:DAYLIGHT
TZOFFSETFROM:-0500
TZOFFSETTO:-0400
TZNAME:EDT
DTSTART:20260308T070000
END:DAYLIGHT
BEGIN:STANDARD
TZOFFSETFROM:-0400
TZOFFSETTO:-0500
TZNAME:EST
DTSTART:20261101T060000
END:STANDARD
BEGIN:DAYLIGHT
TZOFFSETFROM:-0500
TZOFFSETTO:-0400
TZNAME:EDT
DTSTART:20270314T070000
END:DAYLIGHT
BEGIN:STANDARD
TZOFFSETFROM:-0400
TZOFFSETTO:-0500
TZNAME:EST
DTSTART:20271107T060000
END:STANDARD
END:VTIMEZONE
BEGIN:VEVENT
DTSTART;TZID=America/New_York:20260226T090000
DTEND;TZID=America/New_York:20260226T100000
DTSTAMP:20260423T072622
CREATED:20260210T225919Z
LAST-MODIFIED:20260210T225919Z
UID:7124-1772096400-1772100000@rcei.rutgers.edu
SUMMARY:Virtual Information Session: Master of City and Regional Planning
DESCRIPTION:9:00 AM EDT.  \nEdward J. Bloustein School of Planning and Public Policy. Location: Webinar.
URL:https://rcei.rutgers.edu/event/virtual-information-session-master-of-city-and-regional-planning/
LOCATION:Online Webinar
END:VEVENT
END:VCALENDAR