BEGIN:VCALENDAR
VERSION:2.0
PRODID:-//Rutgers Climate and Energy Institute (RCEI) - ECPv6.15.18//NONSGML v1.0//EN
CALSCALE:GREGORIAN
METHOD:PUBLISH
X-WR-CALNAME:Rutgers Climate and Energy Institute (RCEI)
X-ORIGINAL-URL:https://rcei.rutgers.edu
X-WR-CALDESC:Events for Rutgers Climate and Energy Institute (RCEI)
REFRESH-INTERVAL;VALUE=DURATION:PT1H
X-Robots-Tag:noindex
X-PUBLISHED-TTL:PT1H
BEGIN:VTIMEZONE
TZID:America/New_York
BEGIN:DAYLIGHT
TZOFFSETFROM:-0500
TZOFFSETTO:-0400
TZNAME:EDT
DTSTART:20250309T070000
END:DAYLIGHT
BEGIN:STANDARD
TZOFFSETFROM:-0400
TZOFFSETTO:-0500
TZNAME:EST
DTSTART:20251102T060000
END:STANDARD
BEGIN:DAYLIGHT
TZOFFSETFROM:-0500
TZOFFSETTO:-0400
TZNAME:EDT
DTSTART:20260308T070000
END:DAYLIGHT
BEGIN:STANDARD
TZOFFSETFROM:-0400
TZOFFSETTO:-0500
TZNAME:EST
DTSTART:20261101T060000
END:STANDARD
BEGIN:DAYLIGHT
TZOFFSETFROM:-0500
TZOFFSETTO:-0400
TZNAME:EDT
DTSTART:20270314T070000
END:DAYLIGHT
BEGIN:STANDARD
TZOFFSETFROM:-0400
TZOFFSETTO:-0500
TZNAME:EST
DTSTART:20271107T060000
END:STANDARD
END:VTIMEZONE
BEGIN:VEVENT
DTSTART;TZID=America/New_York:20260323T120000
DTEND;TZID=America/New_York:20260323T133000
DTSTAMP:20260425T164110
CREATED:20260213T144334Z
LAST-MODIFIED:20260216T204841Z
UID:7156-1774267200-1774272600@rcei.rutgers.edu
SUMMARY:Slices of Insight: Faculty Research on Climate and Energy (March 23\, 2026)
DESCRIPTION:Slices of Insight is an informal pizza lunch series designed to help the Rutgers community connect across disciplines\, campuses\, and departments while learning about research related to climate and energy. \n\n\n\nEach event features a brief research spotlight from an RCEI affiliate\, followed by time for questions\, discussion\, and open networking. The series aims to create a welcoming\, low-pressure space to meet colleagues\, exchange ideas\, and foster new collaborations. \n\n\n\n  \nFaculty\, staff\, postdocs\, and graduate students are all welcome to attend. \n\n\n\n⏱️ Date: March 23\, 2026 | 12:00 – 1:30 PM \n📍 Location: Food and Nutritional Sciences Building\, Suite 122 (Cook Campus) & Zoom option for talks \n🍕 Pizza and drinks will be provided. \n\n\n\n  \nSpeakers \n\n\n\n👤 Robert Mieth\, Industrial and Systems Engineering \n👤 Erin Sauer\, Ecology\, Evolution\, & Natural Resources \n\n\n\n\n\n  \nRegistration is required. \n\n\n\nIn person registration (deadline March 18): https://rutgers.ca1.qualtrics.com/jfe/form/SV_3fwxqP51xI5T0Mu \n\n\n\nZoom registration: https://rutgers.zoom.us/meeting/register/5VhiIybxTXi9GfpdWKyK1A#/registration \n\n\n\n\n\n  \nAgenda \n\n\n\n\n12:00-12:30 PM: Informal lunch (pizza and beverages provided) and conversation\n12:30-12:45 PM: Speaker 1 presentation\n12:45-1:00 PM: Q&A for Speaker 1\n1:00-1:15 PM: Speaker 2 presentation\n1:15-1:30 PM: Q&A for Speaker 2  
URL:https://rcei.rutgers.edu/event/slices-of-insight-march-23-2026/
LOCATION:Food and Nutritional Sciences Building East\, Suite 122\, 63 Dudley Road\, New Brunswick\, NJ\, 08901\, United States
END:VEVENT
BEGIN:VEVENT
DTSTART;TZID=America/New_York:20260323T154500
DTEND;TZID=America/New_York:20260323T164500
DTSTAMP:20260425T164110
CREATED:20260304T001635Z
LAST-MODIFIED:20260304T001911Z
UID:7371-1774280700-1774284300@rcei.rutgers.edu
SUMMARY:Paleoceanography and paleoclimatology
DESCRIPTION:3:45 PM ET. Rutgers Department of Marine and Coastal Sciences. Speaker: Jess Adkins\, California Institute of Technology. Location: Alampi Room.
URL:https://rcei.rutgers.edu/event/slices-of-insight-faculty-research-on-climate-and-energy/
LOCATION:Marine & Coastal Sciences Building — Alampi Room\, 71 Dudley Rd\, New Brunswick\, NJ\, 08901\, United States
END:VEVENT
END:VCALENDAR