BEGIN:VCALENDAR
VERSION:2.0
PRODID:-//Rutgers Climate and Energy Institute (RCEI) - ECPv6.15.18//NONSGML v1.0//EN
CALSCALE:GREGORIAN
METHOD:PUBLISH
X-ORIGINAL-URL:https://rcei.rutgers.edu
X-WR-CALDESC:Events for Rutgers Climate and Energy Institute (RCEI)
REFRESH-INTERVAL;VALUE=DURATION:PT1H
X-Robots-Tag:noindex
X-PUBLISHED-TTL:PT1H
BEGIN:VTIMEZONE
TZID:America/New_York
BEGIN:DAYLIGHT
TZOFFSETFROM:-0500
TZOFFSETTO:-0400
TZNAME:EDT
DTSTART:20230312T070000
END:DAYLIGHT
BEGIN:STANDARD
TZOFFSETFROM:-0400
TZOFFSETTO:-0500
TZNAME:EST
DTSTART:20231105T060000
END:STANDARD
BEGIN:DAYLIGHT
TZOFFSETFROM:-0500
TZOFFSETTO:-0400
TZNAME:EDT
DTSTART:20240310T070000
END:DAYLIGHT
BEGIN:STANDARD
TZOFFSETFROM:-0400
TZOFFSETTO:-0500
TZNAME:EST
DTSTART:20241103T060000
END:STANDARD
BEGIN:DAYLIGHT
TZOFFSETFROM:-0500
TZOFFSETTO:-0400
TZNAME:EDT
DTSTART:20250309T070000
END:DAYLIGHT
BEGIN:STANDARD
TZOFFSETFROM:-0400
TZOFFSETTO:-0500
TZNAME:EST
DTSTART:20251102T060000
END:STANDARD
END:VTIMEZONE
BEGIN:VEVENT
DTSTART;TZID=America/New_York:20240501T110000
DTEND;TZID=America/New_York:20240501T120000
DTSTAMP:20260422T104749
CREATED:20240430T215602Z
LAST-MODIFIED:20240430T215602Z
UID:2394-1714561200-1714564800@rcei.rutgers.edu
SUMMARY:Webinar: CEED 6th Annual Environmental Health and Justice Summit – Session IV: Indoor Air and Environmental Quality in Schools
DESCRIPTION:Speaker: Derek Shendell\, Rutgers School of Public Health; Nikki Baker\, Health Schools Now  \nAbstract: Join us for an interactive session on potential environmental health and safety-related issues in New Jersey public and charter K-12 schools and what we can do collectively to address them.  \nMore information here. Register here.
URL:https://rcei.rutgers.edu/event/webinar-ceed-6th-annual-environmental-health-and-justice-summit-session-iv-indoor-air-and-environmental-quality-in-schools/
END:VEVENT
BEGIN:VEVENT
DTSTART;TZID=America/New_York:20240501T113000
DTEND;TZID=America/New_York:20240501T123000
DTSTAMP:20260422T104749
CREATED:20240430T215824Z
LAST-MODIFIED:20240430T215824Z
UID:2396-1714563000-1714566600@rcei.rutgers.edu
SUMMARY:EPS Colloquium: Grad students & Postdocs\, Rutgers University
DESCRIPTION:  \nMore information here.
URL:https://rcei.rutgers.edu/event/eps-colloquium-grad-students-postdocs-rutgers-university/
LOCATION:Wright Auditorium\, Busch Campus\, 610 Taylor Road\, Piscataway\, NJ\, 08854\, United States
END:VEVENT
BEGIN:VEVENT
DTSTART;TZID=America/New_York:20240501T140000
DTEND;TZID=America/New_York:20240501T150000
DTSTAMP:20260422T104749
CREATED:20240430T220146Z
LAST-MODIFIED:20240430T220146Z
UID:2398-1714572000-1714575600@rcei.rutgers.edu
SUMMARY:Geography Undergraduate Research Symposium
DESCRIPTION:Abstract: Step into the world of innovation and discovery at our upcoming event! \nJoin us for a showcase featuring Geography and Environmental Studies students presenting their latest projects and insights from various classes and research endeavors. Everyone is welcome to attend and be inspired by the ingenuity of our student community. \nLight refreshments will be provided! \nMore information here.
URL:https://rcei.rutgers.edu/event/geography-undergraduate-research-symposium/
LOCATION:LSH–B267\, 54 Joyce Kilmer Avenue\, Piscataway\, NJ\, 08854\, United States
END:VEVENT
BEGIN:VEVENT
DTSTART;TZID=America/New_York:20240502T113000
DTEND;TZID=America/New_York:20240502T133000
DTSTAMP:20260422T104749
CREATED:20240329T234006Z
LAST-MODIFIED:20240424T190630Z
UID:2098-1714649400-1714656600@rcei.rutgers.edu
SUMMARY:Climate and the Bioeconomy Convergence Café
DESCRIPTION:The bioeconomy harnesses the power of biology in novel production of goods\, services\, and energy to grow the economy and workforce while improving quality of life and the environment. Key to the bioeconomy concept is reducing dependence on fossil fuels while preventing biodiversity loss\, reducing risks to people\, and ensuring economic growth follows ethical\, responsible\, and sustainable principles. \nRCEI aims to direct Rutgers scholarship toward the emerging global emphasis on the role of the bioeconomy in addressing climate change. This Convergence Café looks to mobilize interdisciplinary teams to access federal investments and support in research that intersects with the bioeconomy. \nThis event is for you if you are: \n\n\n 	Looking for funding sources for your research interests around this theme.\n 	Searching for a collaborator to team with for research funding.\n 	Want to increase your chances of success within highly competitive programs.\n 	In need of planning funds to get your project off the ground.\n\nRCEI’s Climate and the Bioeconomy Convergence Café event is for RCEI affiliate scholars and other full-time Rutgers faculty and staff (or a representative from their lab) to develop connections as well as learn about upcoming funding opportunities to address challenges around this theme. \nFor more information about the nexus between Climate and the Bioeconomy\, see the Federal Funding Landscape highlighting programs across the Federal government anticipated to be competed this Fall. \nThe NSF Regional Innovation Engines Competition also focuses on several key areas of technology outlined in CHIPS and Science – including biotechnology; additional information about this call is available here. Register HereLearn More about what a Convergence Café is Here
URL:https://rcei.rutgers.edu/event/climate-and-the-bioeconomy-convergence-cafe/
LOCATION:Rutgers Club\, 85 Avenue E\, Piscataway\, NJ\, 08854\, United States
CATEGORIES:Other Events
END:VEVENT
BEGIN:VEVENT
DTSTART;TZID=America/New_York:20240507T083000
DTEND;TZID=America/New_York:20240507T170000
DTSTAMP:20260422T104749
CREATED:20240326T215406Z
LAST-MODIFIED:20240506T174544Z
UID:2069-1715070600-1715101200@rcei.rutgers.edu
SUMMARY:Sustainability Governance in the Anthropocene: A Symposium
DESCRIPTION:How can we manage major challenges like climate change\, food security\, and biodiversity loss in the face of accelerating human pressure\, increasing complexity\, and persistent inequality? Join us at the Cook Student Center for a day-long symposium featuring globally renowned social scientists discussing how different governance systems are experimenting\, learning\, failing\, and succeeding at managing resources under stress. \nRegister today to attend this event virtually or in-person: Register Here to Attend In-PersonIn-Person Registration Deadline: May 1st\, 2024Register Here to Attend Virtually (Zoom)View the Event Agenda HereImportant Parking Information\nIf you are planning to attend in-person and travel by car\, and do not have a Rutgers University parking permit\, you MUST register for parking ahead of time. University students and employees who have a parking permit must continue to park in their designated lots for this event. \nParking for this event will be in lots 76\, 99c\, and 99d. View Map Here Register for Parking HereDownload the Event Flyer HereMore Information About the Speakers\nDr. Jennifer Clapp is a Tier I Canada Research Chair in Global Food Security and Sustainability and Professor in the School of Environment\, Resources and Sustainability at the University of Waterloo\, Canada. She is currently a member of the International Panel of Experts on Sustainable Food Systems (IPES-Food) and a member of the Scientific Advisory Committee of the UN Food Systems Coordination Hub. Dr. Clapp has published widely on the global governance of problems that arise at the intersection of the global economy\, food security and food systems\, and the natural environment.Dr. Ratana Chuenpagdee is a University Research Professor in Geography at Memorial University of Newfoundland\, in St. John’s\, Canada. She is leading a major global research partnership\, Too Big To Ignore (TBTI)\, which aims at elevating the profile of small-scale fisheries and rectifying their marginalization in national and international policies around the world. Dr. Meredith Gore is a Professor in the Department of Geography at the University of Maryland College Park. Her research interests focus on community-based natural resource management and enhancing understanding of risk concepts and their application to biodiversity conservation. The majority of her activities can be described as convergence research on issues such as wildlife trafficking\, illegal logging\, fishing and mining. She has been a National Academies of Sciences Jefferson Science Fellow and US Department of State Embassy Science Fellow.
URL:https://rcei.rutgers.edu/event/sustainability-governance-in-the-anthropocene-a-symposium/
LOCATION:Cook Student Center\, 59 Biel Road\, New Brunswick\, NJ\, 08901\, United States
END:VEVENT
BEGIN:VEVENT
DTSTART;TZID=America/New_York:20240516T090000
DTEND;TZID=America/New_York:20240516T160000
DTSTAMP:20260422T104749
CREATED:20240507T144439Z
LAST-MODIFIED:20240507T145517Z
UID:2408-1715850000-1715875200@rcei.rutgers.edu
SUMMARY:2024 Transit-Oriented Development Symposium
DESCRIPTION:Speakers: larelle DeGraffe\, PATH; Megan Fackler\, New Jersey Department of Transportation.  \nAbstract: This symposium\, presented in partnership with the Port Authority of New York & New Jersey\, NJ TRANSIT\, the NJ Department of Transportation\, and the Alan M. Voorhees Transportation Center at Rutgers University\, will bring together experts\, stakeholders\, and professionals to explore the intersection of community\, commerce\, and transit-oriented development. The day’s activities will explore the transformative impact of PATH’s inception since 1908 as well as reflect upon and celebrate the New Jersey Transit Village Initiative at 25. \nDon’t miss this opportunity to learn from the past and shape the future of transportation and community in New Jersey.  \nMore information here. Register here. 
URL:https://rcei.rutgers.edu/event/2024-transit-oriented-development-symposium/
LOCATION:James Florio Special Events Forum – Bloustein School\, 33 Livingston Ave\, New Brunswick\, NJ\, United States
END:VEVENT
BEGIN:VEVENT
DTSTART;TZID=America/New_York:20240517T090000
DTEND;TZID=America/New_York:20240517T163000
DTSTAMP:20260422T104749
CREATED:20240515T010507Z
LAST-MODIFIED:20240515T010632Z
UID:2418-1715936400-1715963400@rcei.rutgers.edu
SUMMARY:The 11th Annual New Jersey Big Data Alliance Symposium: Artificial Intelligence Impacts on Society & Higher Education
DESCRIPTION:Speakers: Sherry Marcus\, Amazon Web Services; Shiren Vijiasingam\, Instructure  \nMore information here. Register here. 
URL:https://rcei.rutgers.edu/event/the-11th-annual-new-jersey-big-data-alliance-symposium-artificial-intelligence-impacts-on-society-higher-education/
LOCATION:Douglass Student Center\, 100 George St\, New Brunswick\, 08901\, United States
END:VEVENT
BEGIN:VEVENT
DTSTART;TZID=America/New_York:20240520T183000
DTEND;TZID=America/New_York:20240520T193000
DTSTAMP:20260422T104750
CREATED:20240515T011120Z
LAST-MODIFIED:20240515T011120Z
UID:2423-1716229800-1716233400@rcei.rutgers.edu
SUMMARY:Webinar: Down to Earth Soil Management with Bill Errickson\, Rutgers University
DESCRIPTION:Speaker: Bill Errickson\, Rutgers University  \nAbstract: For the earth element\, we will look at soil health and how it is defined as the continued capacity to function as a vital living ecosystem that sustains plants\, animals\, and humans. Maintaining soil health is an essential component of a productive and thriving garden that is more resistant to disease and abiotic stress. This presentation will highlight the important ecological roles of soil organisms as they relate to the physical and chemical properties of soil in home-scale and community gardens. Topics will include proper methods of soil testing\, optimizing soil fertility\, and practices to support soil organism biodiversity through increasing soil organic matter.  \nMore information here. Register here. 
URL:https://rcei.rutgers.edu/event/webinar-down-to-earth-soil-management-with-bill-errickson-rutgers-university/
END:VEVENT
BEGIN:VEVENT
DTSTART;TZID=America/New_York:20240523T090000
DTEND;TZID=America/New_York:20240523T160000
DTSTAMP:20260422T104750
CREATED:20240522T180847Z
LAST-MODIFIED:20240522T181934Z
UID:2487-1716454800-1716480000@rcei.rutgers.edu
SUMMARY:Paving the Way to Meet the Future of Transportation Infrastructure
DESCRIPTION:Speakers: Kevin S. Corbett\, NJ Transit; Kris Kolluri\, Gateway Development Commission; Francis K. O’Connor\, New Jersey Department of Transportation; Catherine T. Sheridan\, Metropolitan Transportation Authority  \nAbstract: Join a select group of industry\, government\, and academic leaders to address the central transportation infrastructure initiatives in the New Jersey and New York metropolitan area. This high-level symposium will examine the role of technological innovations and collaborative partnerships to meet the challenges of effective management of existing and construction of future transportation infrastructure.   \nMore information here. Register here. 
URL:https://rcei.rutgers.edu/event/paving-the-way-to-meet-the-future-of-transportation-infrastructure/
LOCATION:Richard Weeks Hall of Engineering\, 500 Bartholomew Road\, Piscataway\, NJ\, 08854\, United States
END:VEVENT
BEGIN:VEVENT
DTSTART;TZID=America/New_York:20240523T183000
DTEND;TZID=America/New_York:20240523T193000
DTSTAMP:20260422T104750
CREATED:20240515T011406Z
LAST-MODIFIED:20240515T011406Z
UID:2425-1716489000-1716492600@rcei.rutgers.edu
SUMMARY:Webinar: Offshore Wind for New Jersey: the Opportunities and Challenges with Kris Ohleth\, Special Initiative on Offshore Wind
DESCRIPTION:Speaker: Kris Ohleth\, Special Initiative on Offshore Wind  \nAbstract: For the air element\, we will look off New Jersey’s coast to learn more about offshore wind energy. The offshore wind industry started approximately 30 years ago in Europe and is rapidly developing in the United States\, including off New Jersey. Join us to learn more about the opportunities and challenges associated with developing offshore wind off New Jersey’s coast. Our featured speaker\, Kris Ohleth\, has more than 20 years’ experience working in the offshore wind sector and brings a wealth of knowledge on this emerging industry.  \nMore information here. Register here. 
URL:https://rcei.rutgers.edu/event/webinar-offshore-wind-for-new-jersey-the-opportunities-and-challenges-with-kris-ohleth-special-initiative-on-offshore-wind/
END:VEVENT
END:VCALENDAR