BEGIN:VCALENDAR
VERSION:2.0
PRODID:-//Rutgers Climate and Energy Institute (RCEI) - ECPv6.15.18//NONSGML v1.0//EN
CALSCALE:GREGORIAN
METHOD:PUBLISH
X-ORIGINAL-URL:https://rcei.rutgers.edu
X-WR-CALDESC:Events for Rutgers Climate and Energy Institute (RCEI)
REFRESH-INTERVAL;VALUE=DURATION:PT1H
X-Robots-Tag:noindex
X-PUBLISHED-TTL:PT1H
BEGIN:VTIMEZONE
TZID:America/New_York
BEGIN:DAYLIGHT
TZOFFSETFROM:-0500
TZOFFSETTO:-0400
TZNAME:EDT
DTSTART:20240310T070000
END:DAYLIGHT
BEGIN:STANDARD
TZOFFSETFROM:-0400
TZOFFSETTO:-0500
TZNAME:EST
DTSTART:20241103T060000
END:STANDARD
BEGIN:DAYLIGHT
TZOFFSETFROM:-0500
TZOFFSETTO:-0400
TZNAME:EDT
DTSTART:20250309T070000
END:DAYLIGHT
BEGIN:STANDARD
TZOFFSETFROM:-0400
TZOFFSETTO:-0500
TZNAME:EST
DTSTART:20251102T060000
END:STANDARD
BEGIN:DAYLIGHT
TZOFFSETFROM:-0500
TZOFFSETTO:-0400
TZNAME:EDT
DTSTART:20260308T070000
END:DAYLIGHT
BEGIN:STANDARD
TZOFFSETFROM:-0400
TZOFFSETTO:-0500
TZNAME:EST
DTSTART:20261101T060000
END:STANDARD
END:VTIMEZONE
BEGIN:VEVENT
DTSTART;TZID=America/New_York:20251203T120000
DTEND;TZID=America/New_York:20251203T130000
DTSTAMP:20260422T142930
CREATED:20251120T172017Z
LAST-MODIFIED:20251120T172017Z
UID:6498-1764763200-1764766800@rcei.rutgers.edu
SUMMARY:Antecedents of Technology Adoption in Agriculture: Conceptual framework for an empirical assessment based on technology adoption theories
DESCRIPTION:12:00 PM EST. Rutgers Department of Agricultural\, Food\, and Resource Economics. Speakers: Kuldeep Baishya\, Indian Institute of Technology of Guwahati. Location: 55 Dudley Rd\, room 118
URL:https://rcei.rutgers.edu/event/antecedents-of-technology-adoption-in-agriculture-conceptual-framework-for-an-empirical-assessment-based-on-technology-adoption-theories/
LOCATION:55 Dudley Road\, Room 118
END:VEVENT
BEGIN:VEVENT
DTSTART;TZID=America/New_York:20251203T150000
DTEND;TZID=America/New_York:20251203T160000
DTSTAMP:20260422T142930
CREATED:20251120T172349Z
LAST-MODIFIED:20251120T172349Z
UID:6501-1764774000-1764777600@rcei.rutgers.edu
SUMMARY:CAREERS: Coffee & Careers
DESCRIPTION:3:00 PM EST. Rutgers Bloustein School. Location: 33 Livingston Avenue New Brunswick\, NJ 08901 United States
URL:https://rcei.rutgers.edu/event/careers-coffee-careers/
LOCATION:33 Livingston Avenue
END:VEVENT
BEGIN:VEVENT
DTSTART;TZID=America/New_York:20251205T150000
DTEND;TZID=America/New_York:20251205T160000
DTSTAMP:20260422T142930
CREATED:20251120T172521Z
LAST-MODIFIED:20251120T172521Z
UID:6503-1764946800-1764950400@rcei.rutgers.edu
SUMMARY:On Loop: Black Sonic Politics in Oakland
DESCRIPTION:3:00 PM EST. Rutgers Department of Geography. Speakers: Alex Werth\, East Bay Alliance for a Sustainable Economy. Location: Tillett Hall Rm. 246.
URL:https://rcei.rutgers.edu/event/on-loop-black-sonic-politics-in-oakland/
LOCATION:Tillett Hall Rm. 246
END:VEVENT
BEGIN:VEVENT
DTSTART;TZID=America/New_York:20251210T113000
DTEND;TZID=America/New_York:20251210T123000
DTSTAMP:20260422T142930
CREATED:20251208T193649Z
LAST-MODIFIED:20251208T193649Z
UID:6726-1765366200-1765369800@rcei.rutgers.edu
SUMMARY:Grad Students + Postdocs AGU Practice
DESCRIPTION:11:30 PM EDT. Rutgers Department of Earth and Planetary Sciences. Location: Wright-Rieman Laboratories Auditorium\, Busch Campus\, 610 Taylor Rd.\, Piscataway\, NJ 08854-8066
URL:https://rcei.rutgers.edu/event/grad-students-postdocs-agu-practice/
LOCATION:Wright Auditorium\, Busch Campus\, 610 Taylor Road\, Piscataway\, NJ\, 08854\, United States
END:VEVENT
BEGIN:VEVENT
DTSTART;TZID=America/New_York:20251210T120000
DTEND;TZID=America/New_York:20251210T130000
DTSTAMP:20260422T142930
CREATED:20251208T193827Z
LAST-MODIFIED:20251208T193827Z
UID:6728-1765368000-1765371600@rcei.rutgers.edu
SUMMARY:New Jersey Nature Based Solutions for a Changing Climate
DESCRIPTION:12:00 PM EDT. New Jersey Climate Change Resource Center. Speakers: Janine Barr\, Richard Lathrop\, Brooke Maslo\, Ashlyn Spector. Location: Webinar.
URL:https://rcei.rutgers.edu/event/new-jersey-nature-based-solutions-for-a-changing-climate/
LOCATION:Online Webinar
END:VEVENT
BEGIN:VEVENT
DTSTART;TZID=America/New_York:20251212T143000
DTEND;TZID=America/New_York:20251212T153000
DTSTAMP:20260422T142930
CREATED:20251208T194005Z
LAST-MODIFIED:20251211T175316Z
UID:6730-1765549800-1765553400@rcei.rutgers.edu
SUMMARY:Upstream decisions\, downstream impacts: Assessing wastewater discharges\, drinking water quality\, and environmental justice in watersheds
DESCRIPTION:2:30 PM EDT. Rutgers Department of Environmental Sciences. Speaker: Kelly Good\, Villanova University. Location: ENR Building\, Room 223 on Cook Campus
URL:https://rcei.rutgers.edu/event/upstream-decisions-downstream-impacts-assessing-wastewater-discharges-drinking-water-quality-and-environmental-justice-in-watersheds/
LOCATION:ENR-223\, 14 College Farm Rd\, New Brunswick\, NJ\, 08901\, United States
END:VEVENT
END:VCALENDAR